BEGIN:VCALENDAR
VERSION:2.0
CALSCALE:GREGORIAN
PRODID:Zukunftszentrum Brandenburg
BEGIN:VEVENT
DTSTART;VALUE=DATE:20260519T080000Z
DTEND;VALUE=DATE:20260519T090000Z
LOCATION:online
DTSTAMP:20260422T091710
SUMMARY:Neue Arbeitskräfte gesucht? So sprechen Sie gezielt Frauen an
URL;VALUE=URI:https://www.zukunftszentrum-brandenburg.de/veranstaltung/so-gewinnen-sie-frauen-fuer-ihr-unternehmen/
DESCRIPTION:
UID:20260422T091710--
END:VEVENT
BEGIN:VALARM
TRIGGER:-PT15M
ACTION:DISPLAY
END:VALARM
END:VCALENDAR